BEGIN:VCALENDAR
VERSION:2.0
PRODID:-//ChamberMaster//Event Calendar 2.0//EN
METHOD:PUBLISH
X-PUBLISHED-TTL:P3D
REFRESH-INTERVAL:P3D
CALSCALE:GREGORIAN
BEGIN:VEVENT
DTSTART:20260505T170000Z
DTEND:20260505T173000Z
X-MICROSOFT-CDO-ALLDAYEVENT:FALSE
SUMMARY:Ribbon Cutting Celebration - H & H Bagels
DESCRIPTION:Join us to celebrate H & H Bagels with a ribbon cutting!\n\nWe are so excited to celebrate the arrival of this iconic New York bagel brand bringing their famous\, freshly baked bagels right here to our community. Originally founded in New York City\, H&H Bagels has been expanding nationwide and is now making its mark in the desert
X-ALT-DESC;FMTTYPE=text/html:Join us to celebrate H &amp\; H Bagels with a ribbon cutting!<br />\nWe are so excited to celebrate the arrival of this iconic New York bagel brand bringing their famous\, freshly baked bagels right here to our community. Originally founded in New York City\, H&amp\;H Bagels has been expanding nationwide and is now making its mark in the desert
LOCATION:73131 Country Club Dr. Suite C10 Palm Desert\, CA 92260
UID:e.573.20953
SEQUENCE:3
DTSTAMP:20260422T220326Z
URL:https://pdacc-gzcms.preview.gochambermaster.com/events/details/ribbon-cutting-celebration-h-h-bagels-20953
END:VEVENT

END:VCALENDAR
